BEGIN:VCALENDAR
VERSION:2.0
PRODID:-//Geeta Ashram Malaysia - ECPv6.15.20//NONSGML v1.0//EN
CALSCALE:GREGORIAN
METHOD:PUBLISH
X-ORIGINAL-URL:https://geetamalaysia.org
X-WR-CALDESC:Events for Geeta Ashram Malaysia
REFRESH-INTERVAL;VALUE=DURATION:PT1H
X-Robots-Tag:noindex
X-PUBLISHED-TTL:PT1H
BEGIN:VTIMEZONE
TZID:Asia/Kuala_Lumpur
BEGIN:STANDARD
TZOFFSETFROM:+0800
TZOFFSETTO:+0800
TZNAME:+08
DTSTART:20240101T000000
END:STANDARD
END:VTIMEZONE
BEGIN:VEVENT
DTSTART;VALUE=DATE:20260401
DTEND;VALUE=DATE:20260402
DTSTAMP:20260422T190802
CREATED:20241224T032643Z
LAST-MODIFIED:20260118T093542Z
UID:1207-1775001600-1775087999@geetamalaysia.org
SUMMARY:Hanuman Jayanti 2026
DESCRIPTION:Hanuman Jayanthi celebrates the birth of Lord Hanuman—symbol of unwavering devotion\, courage\, and selfless service. It is a day to remember inner strength guided by humility\, to chant Hanuman prayers\, and to seek protection\, clarity\, and steadfast faith on the spiritual path.
URL:https://geetamalaysia.org/activity/hanuman-jayanti-2026-2/
ATTACH;FMTTYPE=image/webp:https://geetamalaysia.org/wp-content/uploads/2024/12/1491856-hanuman.webp
END:VEVENT
BEGIN:VEVENT
DTSTART;VALUE=DATE:20260401
DTEND;VALUE=DATE:20260402
DTSTAMP:20260422T190802
CREATED:20241224T024107Z
LAST-MODIFIED:20260118T093533Z
UID:1170-1775001600-1775087999@geetamalaysia.org
SUMMARY:Purnima - April 2026
DESCRIPTION:Chaitra Purnima is the full moon of the Chaitra month and falls in the heart of spring. It symbolizes fresh beginnings\, clarity of mind\, and renewing one’s spiritual intentions as nature starts a new cycle of growth and vitality.
URL:https://geetamalaysia.org/activity/purnima-april-2026-2/
ATTACH;FMTTYPE=image/png:https://geetamalaysia.org/wp-content/uploads/2024/12/April-Purnima.png
END:VEVENT
BEGIN:VEVENT
DTSTART;VALUE=DATE:20260330
DTEND;VALUE=DATE:20260331
DTSTAMP:20260422T190802
CREATED:20241224T031412Z
LAST-MODIFIED:20260212T034625Z
UID:615-1774828800-1774915199@geetamalaysia.org
SUMMARY:Gurudev Barsi
DESCRIPTION:
URL:https://geetamalaysia.org/activity/gurudev-barsi/
LOCATION:Geeta Ashram Malaysia\, Lot 6\, Lorong Utara B\, Petaling Jaya\, Selangor Darul Ehsan\,\, 46200\,\, Malaysia
ATTACH;FMTTYPE=image/jpeg:https://geetamalaysia.org/wp-content/uploads/2024/12/WhatsApp-Image-2024-12-28-at-13.53.17.jpeg
END:VEVENT
BEGIN:VEVENT
DTSTART;VALUE=DATE:20260328
DTEND;VALUE=DATE:20260329
DTSTAMP:20260422T190802
CREATED:20241224T030344Z
LAST-MODIFIED:20260212T034911Z
UID:612-1774656000-1774742399@geetamalaysia.org
SUMMARY:Pran Pratishtha
DESCRIPTION:
URL:https://geetamalaysia.org/activity/pran-pratishtha/
LOCATION:Geeta Ashram Malaysia\, Lot 6\, Lorong Utara B\, Petaling Jaya\, Selangor Darul Ehsan\,\, 46200\,\, Malaysia
ATTACH;FMTTYPE=image/webp:https://geetamalaysia.org/wp-content/uploads/2026/01/geeta_ashram_altar.webp
END:VEVENT
BEGIN:VEVENT
DTSTART;VALUE=DATE:20260319
DTEND;VALUE=DATE:20260328
DTSTAMP:20260422T190802
CREATED:20241224T025205Z
LAST-MODIFIED:20260118T093354Z
UID:1184-1773878400-1774655999@geetamalaysia.org
SUMMARY:Chaitra Navratri 2026
DESCRIPTION:Chaitra Navratri is a nine-night festival dedicated to Goddess Durga and her nine forms (Navadurga)\, observed with prayers\, satsang\, bhajans\, and (optional) fasting for inner purification and strength. The celebrations culminate with Ram Navami (birth of Lord Rama) in many traditions\, making this an auspicious period for devotion\, discipline\, and new beginnings. \n19 – 1 day of Navratri \n20 — 2 day of Navratri \n21 — 3 day of Navratri \n22– 4 day of Navratri \n23 — 5 day of Navratri \n24– 6 day of Navratri \n25 — 7 day of Navratri \n26– 8 day of Navratri\n27– 9 day of Navratri
URL:https://geetamalaysia.org/activity/chaitra-navratri-2026-2/
ATTACH;FMTTYPE=image/jpeg:https://geetamalaysia.org/wp-content/uploads/2024/12/Navratri-Festival-Pradip-Madgaonkar.jpg
END:VEVENT
BEGIN:VEVENT
DTSTART;VALUE=DATE:20260303
DTEND;VALUE=DATE:20260304
DTSTAMP:20260422T190802
CREATED:20260117T060052Z
LAST-MODIFIED:20260117T060052Z
UID:1221-1772496000-1772582399@geetamalaysia.org
SUMMARY:Holika Dahan 2026
DESCRIPTION:Holika Dahan (also called Chhoti Holi) is the bonfire ritual held on the night before Holi. It’s observed on the full-moon (Purnima) night of the Hindu month Phalguna.
URL:https://geetamalaysia.org/activity/holika-dahan-2026-2-2/
ATTACH;FMTTYPE=image/png:https://geetamalaysia.org/wp-content/uploads/2026/01/Holika.png
END:VEVENT
BEGIN:VEVENT
DTSTART;VALUE=DATE:20260303
DTEND;VALUE=DATE:20260304
DTSTAMP:20260422T190802
CREATED:20241224T024941Z
LAST-MODIFIED:20241224T024941Z
UID:1183-1772496000-1772582399@geetamalaysia.org
SUMMARY:Swami Hari Harji Maharaj Birthday 2026
DESCRIPTION:Birthday of H.H. Swami Hari Harji Maharaj. Includes morning Geeta Path\, Paduka Pooja\, and Havan.
URL:https://geetamalaysia.org/activity/gurudev-birthday-2026-2/
ATTACH;FMTTYPE=image/jpeg:https://geetamalaysia.org/wp-content/uploads/2024/12/WhatsApp-Image-2024-12-28-at-13.53.17.jpeg
END:VEVENT
BEGIN:VEVENT
DTSTART;VALUE=DATE:20260303
DTEND;VALUE=DATE:20260304
DTSTAMP:20260422T190802
CREATED:20241224T024107Z
LAST-MODIFIED:20260117T201922Z
UID:1198-1772496000-1772582399@geetamalaysia.org
SUMMARY:Purnima - March 2026
DESCRIPTION:For Phalguna Purnima (2026) in Kuala Lumpur\, Malaysia: \n\n\nDate (Purnima day): Tuesday\, 3 March 2026 \n\n\nPurnima Tithi begins: 8:25 PM\, 2 March 2026 \n\n\nPurnima Tithi ends: 7:37 PM\, 3 March 2026
URL:https://geetamalaysia.org/activity/purnima-march-2026-2/
ATTACH;FMTTYPE=image/png:https://geetamalaysia.org/wp-content/uploads/2024/12/March-Purnima.png
END:VEVENT
BEGIN:VEVENT
DTSTART;VALUE=DATE:20260215
DTEND;VALUE=DATE:20260216
DTSTAMP:20260422T190802
CREATED:20241218T103055Z
LAST-MODIFIED:20260203T110324Z
UID:1162-1771113600-1771199999@geetamalaysia.org
SUMMARY:Maha Shivratri 2026
DESCRIPTION:Maha Shivratri\, the “Great Night of Śiva\,” is observed on the Krishna Paksha Chaturdashi—the fourteenth lunar night—known as Phālguna in the North Indian reckoning and Māgha in the South Indian reckoning (the observance is the same day). Spiritually\, the night is an invitation to jāgaraṇa—wakeful inwardness—where silence becomes a form of worship: Śiva as the still\, luminous awareness within\, and Śakti as the living power of transformation. Devotees traditionally keep a fast\, offer bilva leaves and white flowers\, and perform abhisheka—ritual bathing of the liṅga—while chanting Shiva mantras through the night. The principal pūjā is often timed around Niśītā Kāla (midnight)\, though exact windows vary by location; many calendars provide city-specific timings.
URL:https://geetamalaysia.org/activity/maha-shivratri-2026-2/
CATEGORIES:Special
ATTACH;FMTTYPE=image/jpeg:https://geetamalaysia.org/wp-content/uploads/2024/12/1.jpg
END:VEVENT
BEGIN:VEVENT
DTSTART;VALUE=DATE:20260201
DTEND;VALUE=DATE:20260202
DTSTAMP:20260422T190802
CREATED:20241224T024107Z
LAST-MODIFIED:20260118T040501Z
UID:1197-1769904000-1769990399@geetamalaysia.org
SUMMARY:Purnima - February 2026
DESCRIPTION:Magha Purnima\nFebruary Purnima (Magha Purnima) – Kuala Lumpur (2026)February Purnima will be observed on Sunday\, 1 February 2026 in Kuala Lumpur. The Purnima tithi begins at 8:22 AM (1 Feb 2026) and continues until 6:09 AM (2 Feb 2026) (Kuala Lumpur local time). \nOn this auspicious full-moon day\, devotees traditionally engage in prayer\, Geeta path\, satsang\, and daan (charity)—offering their gratitude and renewing their commitment to dharma. Timings are as per the local Panchang.
URL:https://geetamalaysia.org/activity/purnima-february-2026-2/
LOCATION:Geeta Ashram Malaysia\, Lot 6\, Lorong Utara B\, Petaling Jaya\, Selangor Darul Ehsan\,\, 46200\,\, Malaysia
CATEGORIES:Monthly,Purnima
ATTACH;FMTTYPE=image/png:https://geetamalaysia.org/wp-content/uploads/2024/12/Purnima2026.png
END:VEVENT
BEGIN:VEVENT
DTSTART;VALUE=DATE:20251231
DTEND;VALUE=DATE:20260101
DTSTAMP:20260422T190802
CREATED:20241224T033859Z
LAST-MODIFIED:20241224T033859Z
UID:1210-1767139200-1767225599@geetamalaysia.org
SUMMARY:Visnu Sahasranama
DESCRIPTION:
URL:https://geetamalaysia.org/activity/visnu-sahasranama-3/
END:VEVENT
BEGIN:VEVENT
DTSTART;VALUE=DATE:20251231
DTEND;VALUE=DATE:20260101
DTSTAMP:20260422T190802
CREATED:20241224T033859Z
LAST-MODIFIED:20241224T033859Z
UID:642-1767139200-1767225599@geetamalaysia.org
SUMMARY:Visnu Sahasranama
DESCRIPTION:
URL:https://geetamalaysia.org/activity/visnu-sahasranama/
END:VEVENT
BEGIN:VEVENT
DTSTART;VALUE=DATE:20251204
DTEND;VALUE=DATE:20251205
DTSTAMP:20260422T190802
CREATED:20241224T024107Z
LAST-MODIFIED:20241224T024107Z
UID:1189-1764806400-1764892799@geetamalaysia.org
SUMMARY:Purnima - December 2025
DESCRIPTION:
URL:https://geetamalaysia.org/activity/purnima-december-2025-2-2/
END:VEVENT
BEGIN:VEVENT
DTSTART;VALUE=DATE:20251204
DTEND;VALUE=DATE:20251205
DTSTAMP:20260422T190802
CREATED:20241224T024107Z
LAST-MODIFIED:20241224T024107Z
UID:596-1764806400-1764892799@geetamalaysia.org
SUMMARY:Purnima - December 2025
DESCRIPTION:
URL:https://geetamalaysia.org/activity/purnima-december-2025/
END:VEVENT
BEGIN:VEVENT
DTSTART;VALUE=DATE:20251114
DTEND;VALUE=DATE:20251202
DTSTAMP:20260422T190802
CREATED:20241224T033824Z
LAST-MODIFIED:20241224T033824Z
UID:640-1763078400-1764633599@geetamalaysia.org
SUMMARY:Geeta Jayanthi
DESCRIPTION:
URL:https://geetamalaysia.org/activity/geeta-jayanthi/
END:VEVENT
BEGIN:VEVENT
DTSTART;VALUE=DATE:20251114
DTEND;VALUE=DATE:20251202
DTSTAMP:20260422T190802
CREATED:20241224T033824Z
LAST-MODIFIED:20241224T033824Z
UID:1212-1763078400-1764633599@geetamalaysia.org
SUMMARY:Geeta Jayanthi
DESCRIPTION:
URL:https://geetamalaysia.org/activity/geeta-jayanthi-2-2/
END:VEVENT
BEGIN:VEVENT
DTSTART;VALUE=DATE:20251105
DTEND;VALUE=DATE:20251106
DTSTAMP:20260422T190802
CREATED:20241224T024042Z
LAST-MODIFIED:20241224T024042Z
UID:1171-1762300800-1762387199@geetamalaysia.org
SUMMARY:Purnima - November 2025
DESCRIPTION:
URL:https://geetamalaysia.org/activity/purnima-november-2025-2-2/
END:VEVENT
BEGIN:VEVENT
DTSTART;VALUE=DATE:20251105
DTEND;VALUE=DATE:20251106
DTSTAMP:20260422T190802
CREATED:20241224T024042Z
LAST-MODIFIED:20241224T024121Z
UID:594-1762300800-1762387199@geetamalaysia.org
SUMMARY:Purnima - November 2025
DESCRIPTION:
URL:https://geetamalaysia.org/activity/purnima-november-2025/
END:VEVENT
BEGIN:VEVENT
DTSTART;VALUE=DATE:20251010
DTEND;VALUE=DATE:20251020
DTSTAMP:20260422T190802
CREATED:20241224T032643Z
LAST-MODIFIED:20241224T032643Z
UID:635-1760054400-1760918399@geetamalaysia.org
SUMMARY:Hanuman Jayanti
DESCRIPTION:
URL:https://geetamalaysia.org/activity/hanuman-jayanti-2/
ATTACH;FMTTYPE=image/webp:https://geetamalaysia.org/wp-content/uploads/2024/12/1491856-hanuman.webp
END:VEVENT
BEGIN:VEVENT
DTSTART;VALUE=DATE:20251010
DTEND;VALUE=DATE:20251020
DTSTAMP:20260422T190802
CREATED:20241224T032643Z
LAST-MODIFIED:20241224T032643Z
UID:1213-1760054400-1760918399@geetamalaysia.org
SUMMARY:Hanuman Jayanti
DESCRIPTION:
URL:https://geetamalaysia.org/activity/hanuman-jayanti-2-2-2/
ATTACH;FMTTYPE=image/webp:https://geetamalaysia.org/wp-content/uploads/2024/12/1491856-hanuman.webp
END:VEVENT
BEGIN:VEVENT
DTSTART;VALUE=DATE:20251006
DTEND;VALUE=DATE:20251008
DTSTAMP:20260422T190802
CREATED:20241224T024020Z
LAST-MODIFIED:20241224T024020Z
UID:1172-1759708800-1759881599@geetamalaysia.org
SUMMARY:Purnima - October 2025
DESCRIPTION:
URL:https://geetamalaysia.org/activity/purnima-october-2025-2-2/
END:VEVENT
BEGIN:VEVENT
DTSTART;VALUE=DATE:20251006
DTEND;VALUE=DATE:20251008
DTSTAMP:20260422T190802
CREATED:20241224T024020Z
LAST-MODIFIED:20241224T024020Z
UID:592-1759708800-1759881599@geetamalaysia.org
SUMMARY:Purnima - October 2025
DESCRIPTION:
URL:https://geetamalaysia.org/activity/purnima-october-2025/
END:VEVENT
BEGIN:VEVENT
DTSTART;VALUE=DATE:20250922
DTEND;VALUE=DATE:20251001
DTSTAMP:20260422T190802
CREATED:20241224T032819Z
LAST-MODIFIED:20241224T032819Z
UID:1214-1758499200-1759276799@geetamalaysia.org
SUMMARY:Navratri
DESCRIPTION:
URL:https://geetamalaysia.org/activity/navratri-2-2/
END:VEVENT
BEGIN:VEVENT
DTSTART;VALUE=DATE:20250922
DTEND;VALUE=DATE:20251001
DTSTAMP:20260422T190802
CREATED:20241224T032819Z
LAST-MODIFIED:20241224T032819Z
UID:638-1758499200-1759276799@geetamalaysia.org
SUMMARY:Navratri
DESCRIPTION:
URL:https://geetamalaysia.org/activity/navratri/
END:VEVENT
BEGIN:VEVENT
DTSTART;VALUE=DATE:20250907
DTEND;VALUE=DATE:20250922
DTSTAMP:20260422T190802
CREATED:20241224T032257Z
LAST-MODIFIED:20241224T032257Z
UID:632-1757203200-1758499199@geetamalaysia.org
SUMMARY:Shradh Paksh
DESCRIPTION:
URL:https://geetamalaysia.org/activity/shradh-paksh/
ATTACH;FMTTYPE=image/webp:https://geetamalaysia.org/wp-content/uploads/2024/12/image-12.webp
END:VEVENT
BEGIN:VEVENT
DTSTART;VALUE=DATE:20250907
DTEND;VALUE=DATE:20250922
DTSTAMP:20260422T190802
CREATED:20241224T032257Z
LAST-MODIFIED:20241224T032257Z
UID:1215-1757203200-1758499199@geetamalaysia.org
SUMMARY:Shradh Paksh
DESCRIPTION:
URL:https://geetamalaysia.org/activity/shradh-paksh-2-2/
ATTACH;FMTTYPE=image/webp:https://geetamalaysia.org/wp-content/uploads/2024/12/image-12.webp
END:VEVENT
BEGIN:VEVENT
DTSTART;VALUE=DATE:20250907
DTEND;VALUE=DATE:20250908
DTSTAMP:20260422T190802
CREATED:20241224T023948Z
LAST-MODIFIED:20241224T023948Z
UID:590-1757203200-1757289599@geetamalaysia.org
SUMMARY:Purnima - September 2025
DESCRIPTION:
URL:https://geetamalaysia.org/activity/purnima-september-2025/
END:VEVENT
BEGIN:VEVENT
DTSTART;VALUE=DATE:20250907
DTEND;VALUE=DATE:20250908
DTSTAMP:20260422T190802
CREATED:20241224T023948Z
LAST-MODIFIED:20241224T023948Z
UID:1173-1757203200-1757289599@geetamalaysia.org
SUMMARY:Purnima - September 2025
DESCRIPTION:
URL:https://geetamalaysia.org/activity/purnima-september-2025-2-2/
END:VEVENT
BEGIN:VEVENT
DTSTART;VALUE=DATE:20250826
DTEND;VALUE=DATE:20250828
DTSTAMP:20260422T190802
CREATED:20241224T032139Z
LAST-MODIFIED:20241224T032139Z
UID:629-1756166400-1756339199@geetamalaysia.org
SUMMARY:Ganesh Chaturthi
DESCRIPTION:
URL:https://geetamalaysia.org/activity/ganesh-chaturthi/
ATTACH;FMTTYPE=image/jpeg:https://geetamalaysia.org/wp-content/uploads/2024/12/Lalbaugh_Ganesha.jpg
END:VEVENT
BEGIN:VEVENT
DTSTART;VALUE=DATE:20250826
DTEND;VALUE=DATE:20250828
DTSTAMP:20260422T190802
CREATED:20241224T032139Z
LAST-MODIFIED:20241224T032139Z
UID:1216-1756166400-1756339199@geetamalaysia.org
SUMMARY:Ganesh Chaturthi
DESCRIPTION:
URL:https://geetamalaysia.org/activity/ganesh-chaturthi-2-2/
ATTACH;FMTTYPE=image/jpeg:https://geetamalaysia.org/wp-content/uploads/2024/12/Lalbaugh_Ganesha.jpg
END:VEVENT
END:VCALENDAR